BEGIN:VCALENDAR
VERSION:2.0
PRODID:-//www.martinarts.org//NONSGML kigkonsult.se iCalcreator 2.30.10//
CALSCALE:GREGORIAN
METHOD:PUBLISH
UID:8de23c40-8458-4a6b-83ab-e64adc95147a
X-WR-CALDESC:Every Thursday from 6 – 9:30 PM in downtown Jensen Beach (on J
 ensen Beach Boulevard)\, Jammin Jensen offers a mini-festival of local art
 ists’ displays\, music\, vendors\, and family entertainment! \n\nThere is 
 no admission fee — it’s FREE! \n\n(*Please note\; The event is not held on
  Thanksgiving)
X-WR-RELCALID:dfa5380307b5a1ef06e7f5a76eb98191
X-WR-TIMEZONE:America/New_York
BEGIN:VTIMEZONE
TZID:America/New_York
BEGIN:STANDARD
TZNAME:EST
DTSTART:20251102T020000
TZOFFSETFROM:-0400
TZOFFSETTO:-0500
RDATE:20261101T020000
RDATE:20271107T020000
END:STANDARD
BEGIN:DAYLIGHT
TZNAME:EDT
DTSTART:20260308T020000
TZOFFSETFROM:-0500
TZOFFSETTO:-0400
RDATE:20270314T020000
RDATE:20280312T020000
END:DAYLIGHT
END:VTIMEZONE
BEGIN:VEVENT
UID:723c1cf1-adad-4e68-a607-0014bd1bcac3
DTSTAMP:20260424T200440Z
DESCRIPTION:Every Thursday from 6 – 9:30 PM in downtown Jensen Beach (on Je
 nsen Beach Boulevard)\, Jammin Jensen offers a mini-festival of local arti
 sts’ displays\, music\, vendors\, and family entertainment! \n\nThere is n
 o admission fee — it’s FREE! \n\n(*Please note\; The event is not held on 
 Thanksgiving)
DTSTART;TZID=America/New_York:20261022T180000
DTEND;TZID=America/New_York:20261022T213000
LOCATION:Downtown Jensen Beach
SUMMARY:Jammin' in Jensen
END:VEVENT
END:VCALENDAR
