BEGIN:VCALENDAR
VERSION:2.0
PRODID:-//www.martinarts.org//NONSGML kigkonsult.se iCalcreator 2.30.10//
CALSCALE:GREGORIAN
METHOD:PUBLISH
UID:1610ebca-ce41-434d-b9ce-58ad9abb0a52
X-WR-CALDESC:Looking for a wonderful way to decompress. Come by Heathcote B
 otanical Gardens on Wednesdays between 12-1pm and enjoy Bob Lusk performin
 g meditative  style music. An hour to wander among the Gardens while enjoy
 ing the wonderful background ambiance. It is a combination certain to plea
 se. Free with admission to garden. Occurs most Wednesdays.
X-WR-RELCALID:7293e13edc97a1d2804757f60dfa41e5
X-WR-TIMEZONE:America/New_York
BEGIN:VTIMEZONE
TZID:America/New_York
BEGIN:STANDARD
TZNAME:EST
DTSTART:20251102T020000
TZOFFSETFROM:-0400
TZOFFSETTO:-0500
RDATE:20261101T020000
RDATE:20271107T020000
END:STANDARD
BEGIN:DAYLIGHT
TZNAME:EDT
DTSTART:20260308T020000
TZOFFSETFROM:-0500
TZOFFSETTO:-0400
RDATE:20270314T020000
RDATE:20280312T020000
END:DAYLIGHT
END:VTIMEZONE
BEGIN:VEVENT
UID:31fd27f3-b125-4ec8-a4c0-0bc1c0135bf8
DTSTAMP:20260424T202016Z
DESCRIPTION:Looking for a wonderful way to decompress. Come by Heathcote Bo
 tanical Gardens on Wednesdays between 12-1pm and enjoy Bob Lusk performing
  meditative  style music. An hour to wander among the Gardens while enjoyi
 ng the wonderful background ambiance. It is a combination certain to pleas
 e. Free with admission to garden. Occurs most Wednesdays.
DTSTART;TZID=America/New_York:20261028T103000
DTEND;TZID=America/New_York:20261028T113000
LOCATION:Heathcote Botanical Garden\, 210 Savannah Road\, Fort Pierce\, FL 
 34982 US
SUMMARY:Music in the Gardens
END:VEVENT
END:VCALENDAR
