BEGIN:VCALENDAR
VERSION:2.0
PRODID:-//www.martinarts.org//NONSGML kigkonsult.se iCalcreator 2.30.10//
CALSCALE:GREGORIAN
METHOD:PUBLISH
UID:3e9b2c67-c109-4639-be86-fd5c6133ecf8
X-WR-CALDESC:Open Studio with Denise Justice at the Artist's Nook located w
 ithin Stuart Art Supply.\n\nChoose your medium!\n\nFor more information\nE
 mail Denise denisejusticeart@gmail.com\n\n
X-WR-RELCALID:5e10abe953bd5421d59abb8032d84c3e
X-WR-TIMEZONE:America/New_York
BEGIN:VTIMEZONE
TZID:America/New_York
BEGIN:STANDARD
TZNAME:EST
DTSTART:20261101T020000
TZOFFSETFROM:-0400
TZOFFSETTO:-0500
RDATE:20271107T020000
END:STANDARD
BEGIN:DAYLIGHT
TZNAME:EDT
DTSTART:20260308T020000
TZOFFSETFROM:-0500
TZOFFSETTO:-0400
RDATE:20270314T020000
RDATE:20280312T020000
END:DAYLIGHT
END:VTIMEZONE
BEGIN:VEVENT
UID:d0c05cdc-cd3d-469f-a4c5-6179db5ef86c
DTSTAMP:20260424T211841Z
DESCRIPTION:Open Studio with Denise Justice at the Artist's Nook located wi
 thin Stuart Art Supply.\n\nChoose your medium!\n\nFor more information\nEm
 ail Denise denisejusticeart@gmail.com\n\n
DTSTART;TZID=America/New_York:20261109T090000
DTEND;TZID=America/New_York:20261109T120000
LOCATION:Stuart Art Supply
SUMMARY:Open Studio w/ Denise Justice
END:VEVENT
END:VCALENDAR
