BEGIN:VCALENDAR
VERSION:2.0
PRODID:-//www.martinarts.org//NONSGML kigkonsult.se iCalcreator 2.30.10//
CALSCALE:GREGORIAN
METHOD:PUBLISH
UID:704a5b68-5c8a-4108-b625-34736a878b16
X-WR-CALDESC:Oil Painting Classes with Artist Karen Leffel-Massengill held 
 at at The Artists' Nook located within Stuart Art Supply.\n\nContact Karen
  at karenleffel@comcast.net\nphone: 772.263.6061
X-WR-RELCALID:612a65d3f44b82dc60b7241f5462d566
X-WR-TIMEZONE:America/New_York
BEGIN:VTIMEZONE
TZID:America/New_York
BEGIN:STANDARD
TZNAME:EST
DTSTART:20261101T020000
TZOFFSETFROM:-0400
TZOFFSETTO:-0500
RDATE:20271107T020000
END:STANDARD
BEGIN:DAYLIGHT
TZNAME:EDT
DTSTART:20260308T020000
TZOFFSETFROM:-0500
TZOFFSETTO:-0400
RDATE:20270314T020000
RDATE:20280312T020000
END:DAYLIGHT
END:VTIMEZONE
BEGIN:VEVENT
UID:5ea6a49f-4e11-4b05-a659-bbb6362f18b3
DTSTAMP:20260424T213902Z
DESCRIPTION:Oil Painting Classes with Artist Karen Leffel-Massengill held a
 t at The Artists' Nook located within Stuart Art Supply.\n\nContact Karen 
 at karenleffel@comcast.net\nphone: 772.263.6061
DTSTART;TZID=America/New_York:20261117T090000
DTEND;TZID=America/New_York:20261117T120000
LOCATION:Stuart Art Supply & Studio | 43 Kindred Street Stuart FL 34994
SUMMARY:Oil Painting Classes with Artist Karen Leffel-Massengill
END:VEVENT
END:VCALENDAR
