BEGIN:VCALENDAR
VERSION:2.0
PRODID:-//www.martinarts.org//NONSGML kigkonsult.se iCalcreator 2.30.10//
CALSCALE:GREGORIAN
METHOD:PUBLISH
UID:9c492143-b4f7-45cd-bf74-3b1041b609b2
X-WR-CALDESC:An exploration into art with Linda Casario at the Artists' Noo
 k located within Stuart Art Supply.\n\nVarious Mediums are covered. Ages 6
  - 15.\n\nCall for Info: 609.970.6723\nEmail purplemadder@gmail.com
X-WR-RELCALID:9097dd082cdcd6b99b05dd326d6d8a9b
X-WR-TIMEZONE:America/New_York
BEGIN:VTIMEZONE
TZID:America/New_York
BEGIN:STANDARD
TZNAME:EST
DTSTART:20261101T020000
TZOFFSETFROM:-0400
TZOFFSETTO:-0500
RDATE:20271107T020000
END:STANDARD
BEGIN:DAYLIGHT
TZNAME:EDT
DTSTART:20260308T020000
TZOFFSETFROM:-0500
TZOFFSETTO:-0400
RDATE:20270314T020000
RDATE:20280312T020000
END:DAYLIGHT
END:VTIMEZONE
BEGIN:VEVENT
UID:8e9a2ce9-8963-4a88-9aea-e981a7c02c93
DTSTAMP:20260424T213316Z
DESCRIPTION:An exploration into art with Linda Casario at the Artists' Nook
  located within Stuart Art Supply.\n\nVarious Mediums are covered. Ages 6 
 - 15.\n\nCall for Info: 609.970.6723\nEmail purplemadder@gmail.com
DTSTART;TZID=America/New_York:20261126T163000
DTEND;TZID=America/New_York:20261126T180000
LOCATION:Stuart Art Supply\, 45 SE Kindred St\, Stuart\, FL 34994
SUMMARY:#ART Classes up to 15 YO
END:VEVENT
END:VCALENDAR
