BEGIN:VCALENDAR
VERSION:2.0
PRODID:-//www.martinarts.org//NONSGML kigkonsult.se iCalcreator 2.30.10//
CALSCALE:GREGORIAN
METHOD:PUBLISH
UID:f9010c69-00a8-48a8-9e08-9278e8033706
X-WR-CALDESC:An exploration into art with Linda Casario at the Artists' Noo
 k located within Stuart Art Supply.\n\nVarious Mediums are covered. Ages 6
  - 15.\n\nCall for Info: 609.970.6723\nEmail purplemadder@gmail.com
X-WR-RELCALID:eba864e4840fad0892b835219194fa26
X-WR-TIMEZONE:America/New_York
BEGIN:VTIMEZONE
TZID:America/New_York
BEGIN:STANDARD
TZNAME:EST
DTSTART:20261101T020000
TZOFFSETFROM:-0400
TZOFFSETTO:-0500
RDATE:20271107T020000
END:STANDARD
BEGIN:DAYLIGHT
TZNAME:EDT
DTSTART:20260308T020000
TZOFFSETFROM:-0500
TZOFFSETTO:-0400
RDATE:20270314T020000
RDATE:20280312T020000
END:DAYLIGHT
END:VTIMEZONE
BEGIN:VEVENT
UID:173ba793-ee23-4cc3-95cf-c0f4b6c9453a
DTSTAMP:20260425T001522Z
DESCRIPTION:An exploration into art with Linda Casario at the Artists' Nook
  located within Stuart Art Supply.\n\nVarious Mediums are covered. Ages 6 
 - 15.\n\nCall for Info: 609.970.6723\nEmail purplemadder@gmail.com
DTSTART;TZID=America/New_York:20270102T103000
DTEND;TZID=America/New_York:20270102T120000
LOCATION:Stuart Art Supply & Studio | 43 Kindred Street Stuart FL 34994
SUMMARY:#ART Classes up to 15 YO
END:VEVENT
END:VCALENDAR
