BEGIN:VCALENDAR
VERSION:2.0
PRODID:-//www.martinarts.org//NONSGML kigkonsult.se iCalcreator 2.30.10//
CALSCALE:GREGORIAN
METHOD:PUBLISH
UID:ca7c3ad0-bffc-40e6-b9cd-4e6d6b566d3e
X-WR-CALDESC:Enjoy FREE Quality\, Family-friendly Live Music on Our Beautif
 ul Waterfront Stage\nEvery Sunday 1:00 pm -4:00 pm
X-WR-RELCALID:62c0249f6d76fce5f54de1736bbb6b2c
X-WR-TIMEZONE:America/New_York
BEGIN:VTIMEZONE
TZID:America/New_York
BEGIN:STANDARD
TZNAME:EST
DTSTART:20261101T020000
TZOFFSETFROM:-0400
TZOFFSETTO:-0500
RDATE:20271107T020000
END:STANDARD
BEGIN:DAYLIGHT
TZNAME:EDT
DTSTART:20260308T020000
TZOFFSETFROM:-0500
TZOFFSETTO:-0400
RDATE:20270314T020000
RDATE:20280312T020000
END:DAYLIGHT
END:VTIMEZONE
BEGIN:VEVENT
UID:46336e7e-976f-4d56-9aa2-e7b06fd5f947
DTSTAMP:20260425T001212Z
DESCRIPTION:Enjoy FREE Quality\, Family-friendly Live Music on Our Beautifu
 l Waterfront Stage\nEvery Sunday 1:00 pm -4:00 pm
DTSTART;TZID=America/New_York:20270103T130000
DTEND;TZID=America/New_York:20270103T160000
LOCATION:Downtown Stuart at the Riverwalk Stage
SUMMARY:Rock'n Riverwalk
END:VEVENT
END:VCALENDAR
