BEGIN:VCALENDAR
VERSION:2.0
PRODID:-//www.martinarts.org//NONSGML kigkonsult.se iCalcreator 2.30.10//
CALSCALE:GREGORIAN
METHOD:PUBLISH
UID:013a7973-b27f-4359-8934-13225e65a2a3
X-WR-CALDESC:Oil Painting Classes with Artist Karen Leffel-Massengill held 
 at at The Artists' Nook located within Stuart Art Supply.\n\nemail:karenle
 ffel@comcast.net\nphone: 772.263.6061\n
X-WR-RELCALID:7a9701d52510e2f45eb6c4bfbba2ee44
X-WR-TIMEZONE:America/New_York
BEGIN:VTIMEZONE
TZID:America/New_York
BEGIN:STANDARD
TZNAME:EST
DTSTART:20261101T020000
TZOFFSETFROM:-0400
TZOFFSETTO:-0500
RDATE:20271107T020000
END:STANDARD
BEGIN:DAYLIGHT
TZNAME:EDT
DTSTART:20260308T020000
TZOFFSETFROM:-0500
TZOFFSETTO:-0400
RDATE:20270314T020000
RDATE:20280312T020000
END:DAYLIGHT
END:VTIMEZONE
BEGIN:VEVENT
UID:b1a6335f-7e0c-43ce-b637-8f4e57d1b9e2
DTSTAMP:20260425T015537Z
DESCRIPTION:Oil Painting Classes with Artist Karen Leffel-Massengill held a
 t at The Artists' Nook located within Stuart Art Supply.\n\nemail:karenlef
 fel@comcast.net\nphone: 772.263.6061\n
DTSTART;TZID=America/New_York:20270216T130000
DTEND;TZID=America/New_York:20270216T160000
LOCATION:Stuart Art Supply & Studio | 43 Kindred Street Stuart FL 34994
SUMMARY:Oil Painting with Karen Leffel-Massengill
END:VEVENT
END:VCALENDAR
