BEGIN:VCALENDAR
VERSION:2.0
PRODID:-//www.martinarts.org//NONSGML kigkonsult.se iCalcreator 2.30.10//
CALSCALE:GREGORIAN
METHOD:PUBLISH
UID:fc541e83-2f7e-477c-acd1-11a3deb34a71
X-WR-CALDESC:Open Studio with Denise Justice at the Artist's Nook located w
 ithin Stuart Art Supply.\n\nChoose your medium!\n\nFor more information\nE
 mail Denise denisejusticeart@gmail.com\n\n
X-WR-RELCALID:38b844c7919ddd411669db77c5bb28f4
X-WR-TIMEZONE:America/New_York
BEGIN:VTIMEZONE
TZID:America/New_York
BEGIN:STANDARD
TZNAME:EST
DTSTART:20261101T020000
TZOFFSETFROM:-0400
TZOFFSETTO:-0500
RDATE:20271107T020000
END:STANDARD
BEGIN:DAYLIGHT
TZNAME:EDT
DTSTART:20270314T020000
TZOFFSETFROM:-0500
TZOFFSETTO:-0400
RDATE:20280312T020000
END:DAYLIGHT
END:VTIMEZONE
BEGIN:VEVENT
UID:16a4eda2-ea90-4c0c-b69d-496928891d38
DTSTAMP:20260425T032241Z
DESCRIPTION:Open Studio with Denise Justice at the Artist's Nook located wi
 thin Stuart Art Supply.\n\nChoose your medium!\n\nFor more information\nEm
 ail Denise denisejusticeart@gmail.com\n\n
DTSTART;TZID=America/New_York:20270322T090000
DTEND;TZID=America/New_York:20270322T120000
LOCATION:Stuart Art Supply
SUMMARY:Open Studio w/ Denise Justice
END:VEVENT
END:VCALENDAR
