BEGIN:VCALENDAR
VERSION:2.0
PRODID:-//www.martinarts.org//NONSGML kigkonsult.se iCalcreator 2.30.10//
CALSCALE:GREGORIAN
METHOD:PUBLISH
UID:87d83817-ad6f-434c-a0df-46d0f6a4d2ee
X-WR-CALDESC:9 AM - 12 NOON\n\nContact Carol for Information:\nPhone: 772.2
 14.8940\nEmail: keppca@outlook.com
X-WR-RELCALID:779735dbbc7147322d5bb16949b41de7
X-WR-TIMEZONE:America/New_York
BEGIN:VTIMEZONE
TZID:America/New_York
BEGIN:STANDARD
TZNAME:EST
DTSTART:20261101T020000
TZOFFSETFROM:-0400
TZOFFSETTO:-0500
RDATE:20271107T020000
END:STANDARD
BEGIN:DAYLIGHT
TZNAME:EDT
DTSTART:20270314T020000
TZOFFSETFROM:-0500
TZOFFSETTO:-0400
RDATE:20280312T020000
END:DAYLIGHT
END:VTIMEZONE
BEGIN:VEVENT
UID:e853acc3-436c-40d7-ad39-7dc71c72ebef
DTSTAMP:20260425T032808Z
DESCRIPTION:9 AM - 12 NOON\n\nContact Carol for Information:\nPhone: 772.21
 4.8940\nEmail: keppca@outlook.com
DTSTART;TZID=America/New_York:20270324T090000
DTEND;TZID=America/New_York:20270324T120000
LOCATION:Stuart Art Supply & Studio | 43 Kindred Street Stuart FL 34994
SUMMARY:Oil & Acrylic Painting with Carol Kepp
END:VEVENT
END:VCALENDAR
