BEGIN:VCALENDAR
VERSION:2.0
PRODID:-//www.martinarts.org//NONSGML kigkonsult.se iCalcreator 2.30.10//
CALSCALE:GREGORIAN
METHOD:PUBLISH
UID:42f54ca3-d0bf-4e24-9749-4cb6d20185dd
X-WR-CALDESC:Art Lessons (various mediums)\n1:00 PM - 4:00 PM\n\nContact Br
 enda for Information:\nPhone:772.221.7640\nEmail - brendaleigh737@gmail.co
 m
X-WR-RELCALID:235ed3b09cfbc5e7b11140392186bd85
X-WR-TIMEZONE:America/New_York
BEGIN:VTIMEZONE
TZID:America/New_York
BEGIN:STANDARD
TZNAME:EST
DTSTART:20261101T020000
TZOFFSETFROM:-0400
TZOFFSETTO:-0500
RDATE:20271107T020000
RDATE:20281105T020000
END:STANDARD
BEGIN:DAYLIGHT
TZNAME:EDT
DTSTART:20270314T020000
TZOFFSETFROM:-0500
TZOFFSETTO:-0400
RDATE:20280312T020000
END:DAYLIGHT
END:VTIMEZONE
BEGIN:VEVENT
UID:bfdb133f-8877-4af2-a304-1b422bac0584
DTSTAMP:20260425T105223Z
DESCRIPTION:Art Lessons (various mediums)\n1:00 PM - 4:00 PM\n\nContact Bre
 nda for Information:\nPhone:772.221.7640\nEmail - brendaleigh737@gmail.com
DTSTART;TZID=America/New_York:20270804T130000
DTEND;TZID=America/New_York:20270804T160000
LOCATION:Stuart Art Supply & Studio | 43 Kindred Street Stuart FL 34994
SUMMARY:Art Lessons with Brenda Leigh
END:VEVENT
END:VCALENDAR
