BEGIN:VCALENDAR
VERSION:2.0
PRODID:-//www.martinarts.org//NONSGML kigkonsult.se iCalcreator 2.30.10//
CALSCALE:GREGORIAN
METHOD:PUBLISH
UID:e65ed9a0-5700-4065-97e2-b42ac1a79200
X-WR-CALDESC:Art Lessons (various mediums)\n1:00 PM - 4:00 PM\n\nContact Br
 enda for Information:\nPhone:772.221.7640\nEmail - brendaleigh737@gmail.co
 m
X-WR-RELCALID:e36b39d822dfcbaa0c922fa8ff2e9b73
X-WR-TIMEZONE:America/New_York
BEGIN:VTIMEZONE
TZID:America/New_York
BEGIN:STANDARD
TZNAME:EST
DTSTART:20261101T020000
TZOFFSETFROM:-0400
TZOFFSETTO:-0500
RDATE:20271107T020000
RDATE:20281105T020000
END:STANDARD
BEGIN:DAYLIGHT
TZNAME:EDT
DTSTART:20270314T020000
TZOFFSETFROM:-0500
TZOFFSETTO:-0400
RDATE:20280312T020000
END:DAYLIGHT
END:VTIMEZONE
BEGIN:VEVENT
UID:19af7aaa-1fd9-4ee9-b52c-8f7b229550c6
DTSTAMP:20260425T105238Z
DESCRIPTION:Art Lessons (various mediums)\n1:00 PM - 4:00 PM\n\nContact Bre
 nda for Information:\nPhone:772.221.7640\nEmail - brendaleigh737@gmail.com
DTSTART;TZID=America/New_York:20270811T130000
DTEND;TZID=America/New_York:20270811T160000
LOCATION:Stuart Art Supply & Studio | 43 Kindred Street Stuart FL 34994
SUMMARY:Art Lessons with Brenda Leigh
END:VEVENT
END:VCALENDAR
