BEGIN:VCALENDAR
VERSION:2.0
PRODID:-//www.martinarts.org//NONSGML kigkonsult.se iCalcreator 2.30.10//
CALSCALE:GREGORIAN
METHOD:PUBLISH
UID:c91099f2-b93e-4f8a-865c-d105e33aa9c9
X-WR-CALDESC:Oil Painting Classes with Artist Karen Leffel-Massengill held 
 at at The Artists' Nook located within Stuart Art Supply.\n\nContact Karen
  at karenleffel@comcast.net\nphone: 772.263.6061
X-WR-RELCALID:8b3132067e985237dd9c635b1dbc2d30
X-WR-TIMEZONE:America/New_York
BEGIN:VTIMEZONE
TZID:America/New_York
BEGIN:STANDARD
TZNAME:EST
DTSTART:20261101T020000
TZOFFSETFROM:-0400
TZOFFSETTO:-0500
RDATE:20271107T020000
RDATE:20281105T020000
END:STANDARD
BEGIN:DAYLIGHT
TZNAME:EDT
DTSTART:20270314T020000
TZOFFSETFROM:-0500
TZOFFSETTO:-0400
RDATE:20280312T020000
END:DAYLIGHT
END:VTIMEZONE
BEGIN:VEVENT
UID:726135ff-de2b-425b-be4a-37c84bc6fcd8
DTSTAMP:20260425T105851Z
DESCRIPTION:Oil Painting Classes with Artist Karen Leffel-Massengill held a
 t at The Artists' Nook located within Stuart Art Supply.\n\nContact Karen 
 at karenleffel@comcast.net\nphone: 772.263.6061
DTSTART;TZID=America/New_York:20270817T090000
DTEND;TZID=America/New_York:20270817T120000
LOCATION:Stuart Art Supply & Studio | 43 Kindred Street Stuart FL 34994
SUMMARY:Oil Painting Classes with Artist Karen Leffel-Massengill
END:VEVENT
END:VCALENDAR
