BEGIN:VCALENDAR
VERSION:2.0
PRODID:-//www.martinarts.org//NONSGML kigkonsult.se iCalcreator 2.30.10//
CALSCALE:GREGORIAN
METHOD:PUBLISH
UID:7369486d-3ed9-4adf-ba08-8151bb822dea
X-WR-CALDESC:Open Studio with Denise Justice at the Artists' Nook located w
 ithin Stuart Art Supply.\n \nPick a medium!\n\nFor more Information contac
 t Denise denisejusticeart@gmail.com
X-WR-RELCALID:45046c107b0df945c775f2f3b9764054
X-WR-TIMEZONE:America/New_York
BEGIN:VTIMEZONE
TZID:America/New_York
BEGIN:STANDARD
TZNAME:EST
DTSTART:20261101T020000
TZOFFSETFROM:-0400
TZOFFSETTO:-0500
RDATE:20271107T020000
RDATE:20281105T020000
END:STANDARD
BEGIN:DAYLIGHT
TZNAME:EDT
DTSTART:20270314T020000
TZOFFSETFROM:-0500
TZOFFSETTO:-0400
RDATE:20280312T020000
END:DAYLIGHT
END:VTIMEZONE
BEGIN:VEVENT
UID:045a12d2-4aad-4eb1-ace1-fe5d50906b1d
DTSTAMP:20260425T105040Z
DESCRIPTION:Open Studio with Denise Justice at the Artists' Nook located wi
 thin Stuart Art Supply.\n \nPick a medium!\n\nFor more Information contact
  Denise denisejusticeart@gmail.com
DTSTART;TZID=America/New_York:20270823T130000
DTEND;TZID=America/New_York:20270823T160000
LOCATION:Stuart Art Supply & Studio | 43 Kindred Street Stuart FL 34994
SUMMARY:Open Studio w/ Denise Justice
END:VEVENT
END:VCALENDAR
