BEGIN:VCALENDAR
VERSION:2.0
PRODID:-//www.martinarts.org//NONSGML kigkonsult.se iCalcreator 2.30.10//
CALSCALE:GREGORIAN
METHOD:PUBLISH
UID:3ac81c5c-0fe6-449c-abed-ed732f05e46e
X-WR-CALDESC:Oil Painting Classes with Artist Karen Leffel-Massengill held 
 at at The Artists' Nook located within Stuart Art Supply.\n\nemail:karenle
 ffel@comcast.net\nphone: 772.263.6061\n
X-WR-RELCALID:3c5d264cd60f61e78530ddbb851ab377
X-WR-TIMEZONE:America/New_York
BEGIN:VTIMEZONE
TZID:America/New_York
BEGIN:STANDARD
TZNAME:EST
DTSTART:20261101T020000
TZOFFSETFROM:-0400
TZOFFSETTO:-0500
RDATE:20271107T020000
RDATE:20281105T020000
END:STANDARD
BEGIN:DAYLIGHT
TZNAME:EDT
DTSTART:20270314T020000
TZOFFSETFROM:-0500
TZOFFSETTO:-0400
RDATE:20280312T020000
END:DAYLIGHT
END:VTIMEZONE
BEGIN:VEVENT
UID:a98aee48-88ec-4a4a-a3d6-95d2338b20c9
DTSTAMP:20260425T105748Z
DESCRIPTION:Oil Painting Classes with Artist Karen Leffel-Massengill held a
 t at The Artists' Nook located within Stuart Art Supply.\n\nemail:karenlef
 fel@comcast.net\nphone: 772.263.6061\n
DTSTART;TZID=America/New_York:20270824T130000
DTEND;TZID=America/New_York:20270824T160000
LOCATION:Stuart Art Supply & Studio | 43 Kindred Street Stuart FL 34994
SUMMARY:Oil Painting with Karen Leffel-Massengill
END:VEVENT
END:VCALENDAR
