BEGIN:VCALENDAR
VERSION:2.0
PRODID:-//www.martinarts.org//NONSGML kigkonsult.se iCalcreator 2.30.10//
CALSCALE:GREGORIAN
METHOD:PUBLISH
UID:aa6540c1-147b-4bde-8587-448b4d1a2a85
X-WR-CALDESC:Every Tuesday is CRUISING AT THE BEACH with Classic Cars (moto
 rcycles welcome) at the Elliott Museum parking lot from 4 to 7 PM. The coo
 lest wheels on the Treasure Coast will strut their stuff in front of one o
 f the most beautiful landmarks on Hutchinson Island.\n\nIn addition to a l
 ineup of cool cars\, the fabulous “Philly Down South” Tiki Hut is on site 
 offering LIVE MUSIC\, a full bar\, plus a delicious menu of famous cheeses
 teaks\, salads\, your favorite grilled items\, and more fun foods.\n\nSpec
 tators are FREE!\n\nTo show a car is free to museum members and $5 for non
 members.\n\nProceeds will be donated to the museum.\n\n*Event will be canc
 eled for lightning or steady rain.
X-WR-RELCALID:aab885bac929e559e794c5d6267a0d33
X-WR-TIMEZONE:America/New_York
BEGIN:VTIMEZONE
TZID:America/New_York
BEGIN:STANDARD
TZNAME:EST
DTSTART:20261101T020000
TZOFFSETFROM:-0400
TZOFFSETTO:-0500
RDATE:20271107T020000
RDATE:20281105T020000
END:STANDARD
BEGIN:DAYLIGHT
TZNAME:EDT
DTSTART:20270314T020000
TZOFFSETFROM:-0500
TZOFFSETTO:-0400
RDATE:20280312T020000
RDATE:20290311T020000
END:DAYLIGHT
END:VTIMEZONE
BEGIN:VEVENT
UID:0783cbfc-2f07-4e4a-a021-e2c7c8318348
DTSTAMP:20260425T122410Z
DESCRIPTION:Every Tuesday is CRUISING AT THE BEACH with Classic Cars (motor
 cycles welcome) at the Elliott Museum parking lot from 4 to 7 PM. The cool
 est wheels on the Treasure Coast will strut their stuff in front of one of
  the most beautiful landmarks on Hutchinson Island.\n\nIn addition to a li
 neup of cool cars\, the fabulous “Philly Down South” Tiki Hut is on site o
 ffering LIVE MUSIC\, a full bar\, plus a delicious menu of famous cheesest
 eaks\, salads\, your favorite grilled items\, and more fun foods.\n\nSpect
 ators are FREE!\n\nTo show a car is free to museum members and $5 for nonm
 embers.\n\nProceeds will be donated to the museum.\n\n*Event will be cance
 led for lightning or steady rain.
DTSTART;TZID=America/New_York:20270921T160000
DTEND;TZID=America/New_York:20270921T190000
LOCATION:Elliott Museum\, 825 NE Ocean Boulevard\, Stuart\, FL 34996 US
SUMMARY:Cruising at the Beach
END:VEVENT
END:VCALENDAR
