BEGIN:VCALENDAR
VERSION:2.0
PRODID:-//www.martinarts.org//NONSGML kigkonsult.se iCalcreator 2.30.10//
CALSCALE:GREGORIAN
METHOD:PUBLISH
UID:83330fef-9a00-4fa9-b504-091e70bfd365
X-WR-CALDESC:An exploration into art with Linda Casario at the Artists' Noo
 k located within Stuart Art Supply.\n\nVarious Mediums are covered. Ages 6
  - 15.\n\nCall for Info: 609.970.6723\nEmail purplemadder@gmail.com
X-WR-RELCALID:6eec19a8cb7d3305d4dda0df047995aa
X-WR-TIMEZONE:America/New_York
BEGIN:VTIMEZONE
TZID:America/New_York
BEGIN:STANDARD
TZNAME:EST
DTSTART:20261101T020000
TZOFFSETFROM:-0400
TZOFFSETTO:-0500
RDATE:20271107T020000
RDATE:20281105T020000
END:STANDARD
BEGIN:DAYLIGHT
TZNAME:EDT
DTSTART:20270314T020000
TZOFFSETFROM:-0500
TZOFFSETTO:-0400
RDATE:20280312T020000
RDATE:20290311T020000
END:DAYLIGHT
END:VTIMEZONE
BEGIN:VEVENT
UID:07d251f9-dad7-47d3-994e-d37260c487f7
DTSTAMP:20260425T122539Z
DESCRIPTION:An exploration into art with Linda Casario at the Artists' Nook
  located within Stuart Art Supply.\n\nVarious Mediums are covered. Ages 6 
 - 15.\n\nCall for Info: 609.970.6723\nEmail purplemadder@gmail.com
DTSTART;TZID=America/New_York:20270922T163000
DTEND;TZID=America/New_York:20270922T180000
LOCATION:Stuart Art Supply\, 45 SE Kindred St\, Stuart\, FL 34994
SUMMARY:#ART Classes up to 15 YO
END:VEVENT
END:VCALENDAR
