BEGIN:VCALENDAR
VERSION:2.0
PRODID:-//www.martinarts.org//NONSGML kigkonsult.se iCalcreator 2.30.10//
CALSCALE:GREGORIAN
METHOD:PUBLISH
UID:8d16ca7a-1c7c-4d6f-bfd7-4dbffc803712
X-WR-CALDESC:Looking for a wonderful way to decompress. Come by Heathcote B
 otanical Gardens on Wednesdays between 12-1pm and enjoy Bob Lusk performin
 g meditative  style music. An hour to wander among the Gardens while enjoy
 ing the wonderful background ambiance. It is a combination certain to plea
 se. Free with admission to garden. Occurs most Wednesdays.
X-WR-RELCALID:c5f2905eaa7880fcfafd2ac8d0fc88a1
X-WR-TIMEZONE:America/New_York
BEGIN:VTIMEZONE
TZID:America/New_York
BEGIN:STANDARD
TZNAME:EST
DTSTART:20261101T020000
TZOFFSETFROM:-0400
TZOFFSETTO:-0500
RDATE:20271107T020000
RDATE:20281105T020000
END:STANDARD
BEGIN:DAYLIGHT
TZNAME:EDT
DTSTART:20270314T020000
TZOFFSETFROM:-0500
TZOFFSETTO:-0400
RDATE:20280312T020000
RDATE:20290311T020000
END:DAYLIGHT
END:VTIMEZONE
BEGIN:VEVENT
UID:ff727cd4-1d9f-41ab-b709-84f0c87d9572
DTSTAMP:20260425T135059Z
DESCRIPTION:Looking for a wonderful way to decompress. Come by Heathcote Bo
 tanical Gardens on Wednesdays between 12-1pm and enjoy Bob Lusk performing
  meditative  style music. An hour to wander among the Gardens while enjoyi
 ng the wonderful background ambiance. It is a combination certain to pleas
 e. Free with admission to garden. Occurs most Wednesdays.
DTSTART;TZID=America/New_York:20271020T103000
DTEND;TZID=America/New_York:20271020T113000
LOCATION:Heathcote Botanical Garden\, 210 Savannah Road\, Fort Pierce\, FL 
 34982 US
SUMMARY:Music in the Gardens
END:VEVENT
END:VCALENDAR
