BEGIN:VCALENDAR
VERSION:2.0
PRODID:-//www.martinarts.org//NONSGML kigkonsult.se iCalcreator 2.30.10//
CALSCALE:GREGORIAN
METHOD:PUBLISH
UID:a8855e82-c20b-4d71-9641-69e07956abe5
X-WR-CALDESC:Looking for a wonderful way to decompress. Come by Heathcote B
 otanical Gardens on Wednesdays between 12-1pm and enjoy Bob Lusk performin
 g meditative  style music. An hour to wander among the Gardens while enjoy
 ing the wonderful background ambiance. It is a combination certain to plea
 se. Free with admission to garden. Occurs most Wednesdays.
X-WR-RELCALID:96e4f091f31b12c852c0e50746da851a
X-WR-TIMEZONE:America/New_York
BEGIN:VTIMEZONE
TZID:America/New_York
BEGIN:STANDARD
TZNAME:EST
DTSTART:20261101T020000
TZOFFSETFROM:-0400
TZOFFSETTO:-0500
RDATE:20271107T020000
RDATE:20281105T020000
END:STANDARD
BEGIN:DAYLIGHT
TZNAME:EDT
DTSTART:20270314T020000
TZOFFSETFROM:-0500
TZOFFSETTO:-0400
RDATE:20280312T020000
RDATE:20290311T020000
END:DAYLIGHT
END:VTIMEZONE
BEGIN:VEVENT
UID:f2d3fa44-c175-4ea9-b726-4c7e21845b5c
DTSTAMP:20260425T135100Z
DESCRIPTION:Looking for a wonderful way to decompress. Come by Heathcote Bo
 tanical Gardens on Wednesdays between 12-1pm and enjoy Bob Lusk performing
  meditative  style music. An hour to wander among the Gardens while enjoyi
 ng the wonderful background ambiance. It is a combination certain to pleas
 e. Free with admission to garden. Occurs most Wednesdays.
DTSTART;TZID=America/New_York:20271027T103000
DTEND;TZID=America/New_York:20271027T113000
LOCATION:Heathcote Botanical Garden\, 210 Savannah Road\, Fort Pierce\, FL 
 34982 US
SUMMARY:Music in the Gardens
END:VEVENT
END:VCALENDAR
