BEGIN:VCALENDAR
VERSION:2.0
PRODID:-//www.martinarts.org//NONSGML kigkonsult.se iCalcreator 2.30.10//
CALSCALE:GREGORIAN
METHOD:PUBLISH
UID:ab980661-50bc-4177-930a-1e8ae4904a80
X-WR-CALDESC:Every Thursday from 6 – 9:30 PM in downtown Jensen Beach (on J
 ensen Beach Boulevard)\, Jammin Jensen offers a mini-festival of local art
 ists’ displays\, music\, vendors\, and family entertainment! \n\nThere is 
 no admission fee — it’s FREE! \n\n(*Please note\; The event is not held on
  Thanksgiving)
X-WR-RELCALID:9fd07e584783c43dc4de716bdbfdc1c7
X-WR-TIMEZONE:America/New_York
BEGIN:VTIMEZONE
TZID:America/New_York
BEGIN:STANDARD
TZNAME:EST
DTSTART:20271107T020000
TZOFFSETFROM:-0400
TZOFFSETTO:-0500
RDATE:20281105T020000
END:STANDARD
BEGIN:DAYLIGHT
TZNAME:EDT
DTSTART:20270314T020000
TZOFFSETFROM:-0500
TZOFFSETTO:-0400
RDATE:20280312T020000
RDATE:20290311T020000
END:DAYLIGHT
END:VTIMEZONE
BEGIN:VEVENT
UID:e7b67662-87f8-4bde-9de0-ea6fa3f4699a
DTSTAMP:20260425T153822Z
DESCRIPTION:Every Thursday from 6 – 9:30 PM in downtown Jensen Beach (on Je
 nsen Beach Boulevard)\, Jammin Jensen offers a mini-festival of local arti
 sts’ displays\, music\, vendors\, and family entertainment! \n\nThere is n
 o admission fee — it’s FREE! \n\n(*Please note\; The event is not held on 
 Thanksgiving)
DTSTART;TZID=America/New_York:20271118T180000
DTEND;TZID=America/New_York:20271118T213000
LOCATION:Downtown Jensen Beach
SUMMARY:Jammin' in Jensen
END:VEVENT
END:VCALENDAR
