BEGIN:VCALENDAR
VERSION:2.0
PRODID:-//www.martinarts.org//NONSGML kigkonsult.se iCalcreator 2.30.10//
CALSCALE:GREGORIAN
METHOD:PUBLISH
UID:c7ed5a2e-4386-4f3b-9695-79db408b6a13
X-WR-CALDESC:Open Studio with Denise Justice at the Artists' Nook located w
 ithin Stuart Art Supply.\n \nPick a medium!\n\nFor more Information contac
 t Denise denisejusticeart@gmail.com
X-WR-RELCALID:ce17eef67287a0af1d13c90788840c1c
X-WR-TIMEZONE:America/New_York
BEGIN:VTIMEZONE
TZID:America/New_York
BEGIN:STANDARD
TZNAME:EST
DTSTART:20271107T020000
TZOFFSETFROM:-0400
TZOFFSETTO:-0500
RDATE:20281105T020000
END:STANDARD
BEGIN:DAYLIGHT
TZNAME:EDT
DTSTART:20270314T020000
TZOFFSETFROM:-0500
TZOFFSETTO:-0400
RDATE:20280312T020000
RDATE:20290311T020000
END:DAYLIGHT
END:VTIMEZONE
BEGIN:VEVENT
UID:810d591c-1f24-42de-b2e5-1e7b6758611c
DTSTAMP:20260425T154652Z
DESCRIPTION:Open Studio with Denise Justice at the Artists' Nook located wi
 thin Stuart Art Supply.\n \nPick a medium!\n\nFor more Information contact
  Denise denisejusticeart@gmail.com
DTSTART;TZID=America/New_York:20271129T130000
DTEND;TZID=America/New_York:20271129T160000
LOCATION:Stuart Art Supply & Studio | 43 Kindred Street Stuart FL 34994
SUMMARY:Open Studio w/ Denise Justice
END:VEVENT
END:VCALENDAR
