BEGIN:VCALENDAR
VERSION:2.0
PRODID:-//www.martinarts.org//NONSGML kigkonsult.se iCalcreator 2.30.10//
CALSCALE:GREGORIAN
METHOD:PUBLISH
UID:3718b63b-01fa-48fa-86fd-bce01045bd4d
X-WR-CALDESC:Oil Painting Classes with Artist Karen Leffel-Massengill held 
 at at The Artists' Nook located within Stuart Art Supply.\n\nemail:karenle
 ffel@comcast.net\nphone: 772.263.6061\n
X-WR-RELCALID:53043fd7c5b88103e4d9aed64cc8eff4
X-WR-TIMEZONE:America/New_York
BEGIN:VTIMEZONE
TZID:America/New_York
BEGIN:STANDARD
TZNAME:EST
DTSTART:20271107T020000
TZOFFSETFROM:-0400
TZOFFSETTO:-0500
RDATE:20281105T020000
END:STANDARD
BEGIN:DAYLIGHT
TZNAME:EDT
DTSTART:20270314T020000
TZOFFSETFROM:-0500
TZOFFSETTO:-0400
RDATE:20280312T020000
RDATE:20290311T020000
END:DAYLIGHT
END:VTIMEZONE
BEGIN:VEVENT
UID:6219d074-8d90-4c2f-b225-dfe48dbf35e0
DTSTAMP:20260425T182817Z
DESCRIPTION:Oil Painting Classes with Artist Karen Leffel-Massengill held a
 t at The Artists' Nook located within Stuart Art Supply.\n\nemail:karenlef
 fel@comcast.net\nphone: 772.263.6061\n
DTSTART;TZID=America/New_York:20280104T130000
DTEND;TZID=America/New_York:20280104T160000
LOCATION:Stuart Art Supply & Studio | 43 Kindred Street Stuart FL 34994
SUMMARY:Oil Painting with Karen Leffel-Massengill
END:VEVENT
END:VCALENDAR
