BEGIN:VCALENDAR
VERSION:2.0
PRODID:-//www.martinarts.org//NONSGML kigkonsult.se iCalcreator 2.30.10//
CALSCALE:GREGORIAN
METHOD:PUBLISH
UID:afc22b75-9e74-4e42-aca1-01281c9b22e2
X-WR-CALDESC:Enjoy FREE Quality\, Family-friendly Live Music on Our Beautif
 ul Waterfront Stage\nEvery Sunday 1:00 pm -4:00 pm
X-WR-RELCALID:a4952b0513c8f32c8fa17e624a8e6f19
X-WR-TIMEZONE:America/New_York
BEGIN:VTIMEZONE
TZID:America/New_York
BEGIN:STANDARD
TZNAME:EST
DTSTART:20271107T020000
TZOFFSETFROM:-0400
TZOFFSETTO:-0500
RDATE:20281105T020000
END:STANDARD
BEGIN:DAYLIGHT
TZNAME:EDT
DTSTART:20270314T020000
TZOFFSETFROM:-0500
TZOFFSETTO:-0400
RDATE:20280312T020000
RDATE:20290311T020000
END:DAYLIGHT
END:VTIMEZONE
BEGIN:VEVENT
UID:488ddc07-bb3b-4dfe-96f1-0bb4127fffab
DTSTAMP:20260425T182242Z
DESCRIPTION:Enjoy FREE Quality\, Family-friendly Live Music on Our Beautifu
 l Waterfront Stage\nEvery Sunday 1:00 pm -4:00 pm
DTSTART;TZID=America/New_York:20280123T130000
DTEND;TZID=America/New_York:20280123T160000
LOCATION:Downtown Stuart at the Riverwalk Stage
SUMMARY:Rock'n Riverwalk
END:VEVENT
END:VCALENDAR
