BEGIN:VCALENDAR
VERSION:2.0
PRODID:-//www.martinarts.org//NONSGML kigkonsult.se iCalcreator 2.30.10//
CALSCALE:GREGORIAN
METHOD:PUBLISH
UID:a28404a9-748c-436f-95fb-41cf3a583096
X-WR-CALDESC:9 AM - 12 NOON\n\nContact Carol for Information:\nPhone: 772.2
 14.8940\nEmail: keppca@outlook.com
X-WR-RELCALID:b5047133ed1b2b928c837ef8ffd2e978
X-WR-TIMEZONE:America/New_York
BEGIN:VTIMEZONE
TZID:America/New_York
BEGIN:STANDARD
TZNAME:EST
DTSTART:20271107T020000
TZOFFSETFROM:-0400
TZOFFSETTO:-0500
RDATE:20281105T020000
END:STANDARD
BEGIN:DAYLIGHT
TZNAME:EDT
DTSTART:20280312T020000
TZOFFSETFROM:-0500
TZOFFSETTO:-0400
RDATE:20290311T020000
END:DAYLIGHT
END:VTIMEZONE
BEGIN:VEVENT
UID:935983be-db46-485e-a8ca-2881572fd390
DTSTAMP:20260425T212442Z
DESCRIPTION:9 AM - 12 NOON\n\nContact Carol for Information:\nPhone: 772.21
 4.8940\nEmail: keppca@outlook.com
DTSTART;TZID=America/New_York:20280315T090000
DTEND;TZID=America/New_York:20280315T120000
LOCATION:Stuart Art Supply & Studio | 43 Kindred Street Stuart FL 34994
SUMMARY:Oil & Acrylic Painting with Carol Kepp
END:VEVENT
END:VCALENDAR
