BEGIN:VCALENDAR
VERSION:2.0
PRODID:-//www.martinarts.org//NONSGML kigkonsult.se iCalcreator 2.30.10//
CALSCALE:GREGORIAN
METHOD:PUBLISH
UID:2ec5e291-10a4-4d5f-936e-8f8ed4e1cb23
X-WR-CALDESC:Art Lessons (various mediums)\n1:00 PM - 4:00 PM\n\nContact Br
 enda for Information:\nPhone:772.221.7640\nEmail - brendaleigh737@gmail.co
 m
X-WR-RELCALID:bec57f2d2c89fc4a1df346eea61cc0fe
X-WR-TIMEZONE:America/New_York
BEGIN:VTIMEZONE
TZID:America/New_York
BEGIN:STANDARD
TZNAME:EST
DTSTART:20271107T020000
TZOFFSETFROM:-0400
TZOFFSETTO:-0500
RDATE:20281105T020000
END:STANDARD
BEGIN:DAYLIGHT
TZNAME:EDT
DTSTART:20280312T020000
TZOFFSETFROM:-0500
TZOFFSETTO:-0400
RDATE:20290311T020000
END:DAYLIGHT
END:VTIMEZONE
BEGIN:VEVENT
UID:2eae92f5-ffcc-43c4-afb5-66687517f44f
DTSTAMP:20260425T212039Z
DESCRIPTION:Art Lessons (various mediums)\n1:00 PM - 4:00 PM\n\nContact Bre
 nda for Information:\nPhone:772.221.7640\nEmail - brendaleigh737@gmail.com
DTSTART;TZID=America/New_York:20280322T130000
DTEND;TZID=America/New_York:20280322T160000
LOCATION:Stuart Art Supply & Studio | 43 Kindred Street Stuart FL 34994
SUMMARY:Art Lessons with Brenda Leigh
END:VEVENT
END:VCALENDAR
