BEGIN:VCALENDAR
VERSION:2.0
PRODID:-//www.martinarts.org//NONSGML kigkonsult.se iCalcreator 2.30.10//
CALSCALE:GREGORIAN
METHOD:PUBLISH
UID:46c4f039-4abe-411d-b757-b503b835c366
X-WR-CALDESC:Open Studio with Denise Justice at the Artist's Nook located w
 ithin Stuart Art Supply.\n\nChoose your medium!\n\nFor more information\nE
 mail Denise denisejusticeart@gmail.com\n\n
X-WR-RELCALID:1fdf815139698c03c8bfca2b3998be14
X-WR-TIMEZONE:America/New_York
BEGIN:VTIMEZONE
TZID:America/New_York
BEGIN:STANDARD
TZNAME:EST
DTSTART:20271107T020000
TZOFFSETFROM:-0400
TZOFFSETTO:-0500
RDATE:20281105T020000
END:STANDARD
BEGIN:DAYLIGHT
TZNAME:EDT
DTSTART:20280312T020000
TZOFFSETFROM:-0500
TZOFFSETTO:-0400
RDATE:20290311T020000
END:DAYLIGHT
END:VTIMEZONE
BEGIN:VEVENT
UID:5d2c362b-59db-44f8-8516-a7659c1b196f
DTSTAMP:20260425T224743Z
DESCRIPTION:Open Studio with Denise Justice at the Artist's Nook located wi
 thin Stuart Art Supply.\n\nChoose your medium!\n\nFor more information\nEm
 ail Denise denisejusticeart@gmail.com\n\n
DTSTART;TZID=America/New_York:20280417T090000
DTEND;TZID=America/New_York:20280417T120000
LOCATION:Stuart Art Supply
SUMMARY:Open Studio w/ Denise Justice
END:VEVENT
END:VCALENDAR
