BEGIN:VCALENDAR
VERSION:2.0
PRODID:-//www.martinarts.org//NONSGML kigkonsult.se iCalcreator 2.30.10//
CALSCALE:GREGORIAN
METHOD:PUBLISH
UID:98fd9ff4-4fc6-4d54-a5b0-8d00ea7de500
X-WR-CALDESC:Oil Painting Classes with Artist Karen Leffel-Massengill held 
 at at The Artists' Nook located within Stuart Art Supply.\n\nemail:karenle
 ffel@comcast.net\nphone: 772.263.6061\n
X-WR-RELCALID:a097a6a96f0c51b826a99e46f8fa48c1
X-WR-TIMEZONE:America/New_York
BEGIN:VTIMEZONE
TZID:America/New_York
BEGIN:STANDARD
TZNAME:EST
DTSTART:20271107T020000
TZOFFSETFROM:-0400
TZOFFSETTO:-0500
RDATE:20281105T020000
RDATE:20291104T020000
END:STANDARD
BEGIN:DAYLIGHT
TZNAME:EDT
DTSTART:20280312T020000
TZOFFSETFROM:-0500
TZOFFSETTO:-0400
RDATE:20290311T020000
END:DAYLIGHT
END:VTIMEZONE
BEGIN:VEVENT
UID:a391e221-513f-4a92-b8b0-75eea7f274d9
DTSTAMP:20260426T004019Z
DESCRIPTION:Oil Painting Classes with Artist Karen Leffel-Massengill held a
 t at The Artists' Nook located within Stuart Art Supply.\n\nemail:karenlef
 fel@comcast.net\nphone: 772.263.6061\n
DTSTART;TZID=America/New_York:20280523T130000
DTEND;TZID=America/New_York:20280523T160000
LOCATION:Stuart Art Supply & Studio | 43 Kindred Street Stuart FL 34994
SUMMARY:Oil Painting with Karen Leffel-Massengill
END:VEVENT
END:VCALENDAR
