BEGIN:VCALENDAR
VERSION:2.0
PRODID:-//www.martinarts.org//NONSGML kigkonsult.se iCalcreator 2.30.10//
CALSCALE:GREGORIAN
METHOD:PUBLISH
UID:3f9e7556-5fab-4d9f-a18a-fcfced1249ce
X-WR-CALDESC:Enjoy FREE Quality\, Family-friendly Live Music on Our Beautif
 ul Waterfront Stage\nEvery Sunday 1:00 pm -4:00 pm
X-WR-RELCALID:25154c0d4447ee1414dab29dd374faed
X-WR-TIMEZONE:America/New_York
BEGIN:VTIMEZONE
TZID:America/New_York
BEGIN:STANDARD
TZNAME:EST
DTSTART:20271107T020000
TZOFFSETFROM:-0400
TZOFFSETTO:-0500
RDATE:20281105T020000
RDATE:20291104T020000
END:STANDARD
BEGIN:DAYLIGHT
TZNAME:EDT
DTSTART:20280312T020000
TZOFFSETFROM:-0500
TZOFFSETTO:-0400
RDATE:20290311T020000
END:DAYLIGHT
END:VTIMEZONE
BEGIN:VEVENT
UID:7a7e3d53-232e-4c1c-a4c9-6ee0f5abb0ef
DTSTAMP:20260426T003306Z
DESCRIPTION:Enjoy FREE Quality\, Family-friendly Live Music on Our Beautifu
 l Waterfront Stage\nEvery Sunday 1:00 pm -4:00 pm
DTSTART;TZID=America/New_York:20280528T130000
DTEND;TZID=America/New_York:20280528T160000
LOCATION:Downtown Stuart at the Riverwalk Stage
SUMMARY:Rock'n Riverwalk
END:VEVENT
END:VCALENDAR
