BEGIN:VCALENDAR
VERSION:2.0
PRODID:-//www.martinarts.org//NONSGML kigkonsult.se iCalcreator 2.30.10//
CALSCALE:GREGORIAN
METHOD:PUBLISH
UID:8e35be1e-c317-422e-a88a-2a631536e333
X-WR-CALDESC:An exploration into art with Linda Casario at the Artists' Noo
 k located within Stuart Art Supply.\n\nVarious Mediums are covered. Ages 6
  - 15.\n\nCall for Info: 609.970.6723\nEmail purplemadder@gmail.com
X-WR-RELCALID:d724ce72fa1f21468945d2108ff3d1b1
X-WR-TIMEZONE:America/New_York
BEGIN:VTIMEZONE
TZID:America/New_York
BEGIN:STANDARD
TZNAME:EST
DTSTART:20271107T020000
TZOFFSETFROM:-0400
TZOFFSETTO:-0500
RDATE:20281105T020000
RDATE:20291104T020000
END:STANDARD
BEGIN:DAYLIGHT
TZNAME:EDT
DTSTART:20280312T020000
TZOFFSETFROM:-0500
TZOFFSETTO:-0400
RDATE:20290311T020000
END:DAYLIGHT
END:VTIMEZONE
BEGIN:VEVENT
UID:7453ce9e-5139-448f-9c03-aa99d49a33d1
DTSTAMP:20260426T022324Z
DESCRIPTION:An exploration into art with Linda Casario at the Artists' Nook
  located within Stuart Art Supply.\n\nVarious Mediums are covered. Ages 6 
 - 15.\n\nCall for Info: 609.970.6723\nEmail purplemadder@gmail.com
DTSTART;TZID=America/New_York:20280622T163000
DTEND;TZID=America/New_York:20280622T180000
LOCATION:Stuart Art Supply\, 45 SE Kindred St\, Stuart\, FL 34994
SUMMARY:#ART Classes up to 15 YO
END:VEVENT
END:VCALENDAR
