BEGIN:VCALENDAR
VERSION:2.0
PRODID:-//www.martinarts.org//NONSGML kigkonsult.se iCalcreator 2.30.10//
CALSCALE:GREGORIAN
METHOD:PUBLISH
UID:7e4f2cf4-1d0d-4f09-9d59-69f03500e744
X-WR-CALDESC:Looking for a wonderful way to decompress. Come by Heathcote B
 otanical Gardens on Wednesdays between 12-1pm and enjoy Bob Lusk performin
 g meditative  style music. An hour to wander among the Gardens while enjoy
 ing the wonderful background ambiance. It is a combination certain to plea
 se. Free with admission to garden. Occurs most Wednesdays.
X-WR-RELCALID:ac90eea4b2e419c49fcd0f73d5fdba61
X-WR-TIMEZONE:America/New_York
BEGIN:VTIMEZONE
TZID:America/New_York
BEGIN:STANDARD
TZNAME:EST
DTSTART:20271107T020000
TZOFFSETFROM:-0400
TZOFFSETTO:-0500
RDATE:20281105T020000
RDATE:20291104T020000
END:STANDARD
BEGIN:DAYLIGHT
TZNAME:EDT
DTSTART:20280312T020000
TZOFFSETFROM:-0500
TZOFFSETTO:-0400
RDATE:20290311T020000
END:DAYLIGHT
END:VTIMEZONE
BEGIN:VEVENT
UID:aaf39e9d-e788-4a47-b0e3-b78bee5ae2f3
DTSTAMP:20260426T022555Z
DESCRIPTION:Looking for a wonderful way to decompress. Come by Heathcote Bo
 tanical Gardens on Wednesdays between 12-1pm and enjoy Bob Lusk performing
  meditative  style music. An hour to wander among the Gardens while enjoyi
 ng the wonderful background ambiance. It is a combination certain to pleas
 e. Free with admission to garden. Occurs most Wednesdays.
DTSTART;TZID=America/New_York:20280628T103000
DTEND;TZID=America/New_York:20280628T113000
LOCATION:Heathcote Botanical Garden\, 210 Savannah Road\, Fort Pierce\, FL 
 34982 US
SUMMARY:Music in the Gardens
END:VEVENT
END:VCALENDAR
