BEGIN:VCALENDAR
VERSION:2.0
PRODID:-//www.martinarts.org//NONSGML kigkonsult.se iCalcreator 2.30.10//
CALSCALE:GREGORIAN
METHOD:PUBLISH
UID:ef04fb12-6c7a-4be0-a094-71340e993cae
X-WR-CALDESC:Every Thursday from 6 – 9:30 PM in downtown Jensen Beach (on J
 ensen Beach Boulevard)\, Jammin Jensen offers a mini-festival of local art
 ists’ displays\, music\, vendors\, and family entertainment! \n\nThere is 
 no admission fee — it’s FREE! \n\n(*Please note\; The event is not held on
  Thanksgiving)
X-WR-RELCALID:1b7b8f9010aecc142e347bfeca5c18c7
X-WR-TIMEZONE:America/New_York
BEGIN:VTIMEZONE
TZID:America/New_York
BEGIN:STANDARD
TZNAME:EST
DTSTART:20271107T020000
TZOFFSETFROM:-0400
TZOFFSETTO:-0500
RDATE:20281105T020000
RDATE:20291104T020000
END:STANDARD
BEGIN:DAYLIGHT
TZNAME:EDT
DTSTART:20280312T020000
TZOFFSETFROM:-0500
TZOFFSETTO:-0400
RDATE:20290311T020000
END:DAYLIGHT
END:VTIMEZONE
BEGIN:VEVENT
UID:623000eb-0732-4bb8-a80b-e0b6a4810eda
DTSTAMP:20260426T022048Z
DESCRIPTION:Every Thursday from 6 – 9:30 PM in downtown Jensen Beach (on Je
 nsen Beach Boulevard)\, Jammin Jensen offers a mini-festival of local arti
 sts’ displays\, music\, vendors\, and family entertainment! \n\nThere is n
 o admission fee — it’s FREE! \n\n(*Please note\; The event is not held on 
 Thanksgiving)
DTSTART;TZID=America/New_York:20280629T180000
DTEND;TZID=America/New_York:20280629T213000
LOCATION:Downtown Jensen Beach
SUMMARY:Jammin' in Jensen
END:VEVENT
END:VCALENDAR
