BEGIN:VCALENDAR
VERSION:2.0
PRODID:-//www.martinarts.org//NONSGML kigkonsult.se iCalcreator 2.30.10//
CALSCALE:GREGORIAN
METHOD:PUBLISH
UID:42095b6b-d854-4969-a549-3eddc6428faa
X-WR-CALDESC:Enjoy FREE Quality\, Family-friendly Live Music on Our Beautif
 ul Waterfront Stage\nEvery Sunday 1:00 pm -4:00 pm
X-WR-RELCALID:d4bb4bc085b790923efb879245a0d139
X-WR-TIMEZONE:America/New_York
BEGIN:VTIMEZONE
TZID:America/New_York
BEGIN:STANDARD
TZNAME:EST
DTSTART:20271107T020000
TZOFFSETFROM:-0400
TZOFFSETTO:-0500
RDATE:20281105T020000
RDATE:20291104T020000
END:STANDARD
BEGIN:DAYLIGHT
TZNAME:EDT
DTSTART:20280312T020000
TZOFFSETFROM:-0500
TZOFFSETTO:-0400
RDATE:20290311T020000
END:DAYLIGHT
END:VTIMEZONE
BEGIN:VEVENT
UID:d2617857-6aa9-424f-a18c-3e65bd7473db
DTSTAMP:20260426T040439Z
DESCRIPTION:Enjoy FREE Quality\, Family-friendly Live Music on Our Beautifu
 l Waterfront Stage\nEvery Sunday 1:00 pm -4:00 pm
DTSTART;TZID=America/New_York:20280702T130000
DTEND;TZID=America/New_York:20280702T160000
LOCATION:Downtown Stuart at the Riverwalk Stage
SUMMARY:Rock'n Riverwalk
END:VEVENT
END:VCALENDAR
