BEGIN:VCALENDAR
VERSION:2.0
PRODID:-//www.martinarts.org//NONSGML kigkonsult.se iCalcreator 2.30.10//
CALSCALE:GREGORIAN
METHOD:PUBLISH
UID:629864de-d9c7-47e2-9a8d-e500b33c8919
X-WR-CALDESC:9 AM - 12 NOON\n\nContact Carol for Information:\nPhone: 772.2
 14.8940\nEmail: keppca@outlook.com
X-WR-RELCALID:7a8cc559bf5f46b7817bead02bdad6e6
X-WR-TIMEZONE:America/New_York
BEGIN:VTIMEZONE
TZID:America/New_York
BEGIN:STANDARD
TZNAME:EST
DTSTART:20271107T020000
TZOFFSETFROM:-0400
TZOFFSETTO:-0500
RDATE:20281105T020000
RDATE:20291104T020000
END:STANDARD
BEGIN:DAYLIGHT
TZNAME:EDT
DTSTART:20280312T020000
TZOFFSETFROM:-0500
TZOFFSETTO:-0400
RDATE:20290311T020000
END:DAYLIGHT
END:VTIMEZONE
BEGIN:VEVENT
UID:c52c2ddb-d19e-4659-8b3e-b36aae85c70b
DTSTAMP:20260426T041017Z
DESCRIPTION:9 AM - 12 NOON\n\nContact Carol for Information:\nPhone: 772.21
 4.8940\nEmail: keppca@outlook.com
DTSTART;TZID=America/New_York:20280712T090000
DTEND;TZID=America/New_York:20280712T120000
LOCATION:Stuart Art Supply & Studio | 43 Kindred Street Stuart FL 34994
SUMMARY:Oil & Acrylic Painting with Carol Kepp
END:VEVENT
END:VCALENDAR
